Workbook

Sheet Försättsblad
A1: Riskanalys
A3: Namn: Användning av ProSang för bröstmjölksverksamhet
A5: Riskanalysledare: Linnéa Nilsson Järesjö
A7: Datum för riskanalys: 2026-08-11 - 2026-08-31
A9: Deltagare vid riskanalys: | B9: Josefin Lundström
B10: Camilla Lancin
B11: Stella Larsson (Region Stockholm)
B12: Sofia Anarp (Region Kalmar län)
A14: Instruktion
A15: 1. Lista riskerna i fliken riskanalys . Varje risk får en egen riskidentitet (R1, R2 osv.)
A17: 2. Bedöm sannolikhet och konsekvens enligt tabell nedan:
A19: Sannolikhet
A20: 4. Mycket stor sannolikhet | B20: Risken finns redan i dag.
A21: 3. Stor sannolikhet | B21: Kan inträffa. Finns redan tecken på att det kan inträffa idag.
A22: 2. Liten sannolikhet | B22: Inträffar inte under normala omständigheter.
A23: 1. Mycket liten sannolikhet | B23: Praktiskt taget obefintlig risk.
A25: Konsekvens
A26: 4. Mycket allvarlig
A27: 3. Allvarlig, betydande
A28: 2. Lindrig, måttlig
A29: 1. Försumbar, mindre
A32: 3. Alla risker med riskpoäng 8 eller mer rekommenderas att hanteras. Det är även viktigt att bedöma de risker som ligger under riskvärdet 8 beroende på konsekvens och sannolikhet att de kan inträffa. Riskvärdet 8 är en rekommendation.
A34: 4. Ange åtgärder och ansvarig för åtgärd av riskerna.

Sheet Riskanalys
A1: Riskanalys
C2: SAN: Sannolikhet att händelsen inträffar, skala 0-4
C3: KON: Konsekvens för projektet om händelsen inträffar, skala 0-4
C4: R/V: Riskvärde, beräknas genom att multiplicera allvarlighetsgrad med sannolikhet.
A7: Risk-ID | B7: Aktivitet / Process / Krav | C7: Identifierad risk | D7: R/V | E7: SAN | F7: KON
A8: R1 | B8: Hälsodeklaration | C8: Välkomstmeddelandet i hälsodeklarationen kommer vara generellt formulerad då denna kommer vara gemensam för alla donationstyper. | D8: =E8*F8 -> 4 | E8: 4 | F8: 1
A9: R2 | B9: Hälsodeklaration | C9: Hälsodeklarationen kan inte fyllas i på distans om Regionen saknar, eller inte vill använda, funktionen "Min blodgivning". | D9: =E9*F9 -> 6 | E9: 3 | F9: 2
A10: R3 | B10: Hälsodeklaration | C10: Risk att elektronisk hälsodeklaration för fel donatortyp fylls i, om donatorn har donerat annat humanmaterial tidigare. | D10: =E10*F10 -> 6 | E10: 2 | F10: 3
A11: R4 | B11: Hälsodeklaration | C11: Risk att hälsodeklarationen försvinner eller innehåller fel data efter att donatorn har fyllt i den på distans. | D11: =E11*F11 -> 4 | E11: 2 | F11: 2
A12: R5 | B12: Provtagning | C12: Risk att fel analyser beställs i systemet om donatorn har donerat annat humanmaterial tidigare i systemet. | D12: =E12*F12 -> 4 | E12: 2 | F12: 2
A13: R6 | B13: Provtagning | C13: Risk att fel provtagningsdatum anges i systemet om etiketter för smittester skrivs ut på förhand och provtagning sker på hälsocentral. | D13: =E13*F13 -> 9 | E13: 3 | F13: 3
A14: R7 | B14: Donation | C14: Mjölk doneras trots att det förflutit mer än 3 månader sedan senaste smittest utfördes (inget larm genereras). | D14: =E14*F14 -> 6 | E14: 2 | F14: 3
A15: R8 | B15: Odling | C15: Risk att fel datum för odling registreras i systemet om donationsregistrering utförs innan pastörisering. | D15: =E15*F15 -> 3 | E15: 3 | F15: 1
A16: R9 | B16: Odling | C16: Resultat av odling kan inte registreras enligt milknets rekommendation (dvs. "godkänd" och "icke godkänd"). Risk för missförstånd om mjölken är tjänlig eller otjänlig då resultat för odlingsanalyserna måste registreras som negativ alternativt positiv. | D16: =E16*F16 -> 12 | E16: 4 | F16: 3
A17: R10 | B17: Komponentberedning | C17: Donationsunderlag med etiketter för mjölkprodukter är ännu inte utvecklade i systemet (även en möjlighet) | D17: =E17*F17 -> 4 | E17: 4 | F17: 1
A18: R11 | B18: Komponentberedning | C18: Risk att det blir fel hållbarhetsdatum i systemet om komponentkoden inte ändras efter pastörisering. | D18: =E18*F18 -> 6 | E18: 2 | F18: 3
A19: R12 | B19: Komponentberedning | C19: Antalet unika identiteter som kan skapas vid "split" av en batch är begränsad till 26 st. | D19: =E19*F19 -> 6 | E19: 2 | F19: 3
... A31: R24 | B31: Förvaltning och förändring | C31: Om det krävs förändringar i systemet är detta ofta bundet till releaser som endast släpps ett fåtal gånger per år. | D31: =E31*F31 -> 8 | E31: 4 | F31: 2

Sheet Riskhantering
A1: Riskhanteringsplan/åtgärdsplan
A3: Risk# | B3: Projektmål | C3: Identifierad risk | D3: Riskvärde | E3: Sannolikhet | F3: Konsekvens | G3: Åtgärdsförslag | H3: Ansvarig | I3: Uppföljning
A4: {=Riskanalys!A8:F8} -> R1 | B4: Hälsodeklaration | C4: Välkomstmeddelandet i hälsodeklarationen kommer vara generellt formulerad då denna kommer vara gemensam för alla donationstyper. | D4: 4 | E4: 4 | F4: 1 | G4: Verksamheterna kan försöka enas om ett neutralt välkomstmeddelande för alla donationstyper, och framföra önskemål om systemutveckling till leverantören. Ett annat alternativ är att fylla i hälsodeklarationer på papper.
A5: {=Riskanalys!A9:F9} -> R2 | B5: Hälsodeklaration | C5: Hälsodeklarationen kan inte fyllas i på distans om Regionen saknar, eller inte vill använda, funktionen "Min blodgivning". | D5: 6 | E5: 3 | F5: 2 | G5: Hälsodeklaration kan fyllas i elektroniskt på plats på neonatalavdelningen eller manuellt på papper.
A6: {=Riskanalys!A10:F10} -> R3 | B6: Hälsodeklaration | C6: Risk att elektronisk hälsodeklaration för fel donatortyp fylls i, om donatorn har donerat annat humanmaterial tidigare. | D6: 6 | E6: 2 | F6: 3 | G6: Bör inte ske under normala omständigheter. Testas vid verifiering.
A7: =Riskanalys!A11 -> R4 | B7: =Riskanalys!B11 -> Hälsodeklaration | C7: =Riskanalys!C11 -> Risk att hälsodeklarationen försvinner eller innehåller fel data efter att donatorn har fyllt i den på distans. | D7: =Riskanalys!D12 -> 4 | E7: =Riskanalys!E11 -> 2 | F7: =Riskanalys!F11 -> 2 | G7: Bör inte ske under normala omständigheter. Om funktionen ska användas bör testning utföras innan implementering.
A8: =Riskanalys!A12 -> R5 | B8: =Riskanalys!B12 -> Provtagning | C8: =Riskanalys!C12 -> Risk att fel analyser beställs i systemet om donatorn har donerat annat humanmaterial tidigare i systemet. | D8: =Riskanalys!D12 -> 4 | E8: =Riskanalys!E12 -> 2 | F8: =Riskanalys!F12 -> 2 | G8: Bör inte ske under normala omständigheter. Testas vid verifiering.
A9: =Riskanalys!A13 -> R6 | B9: =Riskanalys!B13 -> Provtagning | C9: =Riskanalys!C13 -> Risk att fel provtagningsdatum anges i systemet om etiketter för smittester skrivs ut på förhand och provtagning sker på hälsocentral. | D9: =Riskanalys!D13 -> 9 | E9: =Riskanalys!E13 -> 3 | F9: =Riskanalys!F13 -> 3 | G9: För de verksamheter som nyttjar hälsocentralerna för provtagning presenteras nedan två förslag för övervägning. Alternativ 1: Provtagningen sker enligt nuvarande rutiner med det IT-systemet som används i dagsläget. I verksamhetens interna rutiner beskrivs vilka uppgifter som finns spårbara i respektive system. Alternativ 2: Donatorn medtar pappersremiss samt tillhörande ProSang-etikett för provröret till hälsocentralen. Det på remissen noterade provtagningsdatumet utgör underlag för registrering i ProSang, vilket sker i efterhand så snart bröstmjölksbanken har mottagit den återsända remissen.
A10: =Riskanalys!A14 -> R7 | B10: =Riskanalys!B14 -> Donation | C10: =Riskanalys!C14 -> Mjölk doneras trots att det förflutit mer än 3 månader sedan senaste smittest utfördes (inget larm genereras). | D10: =Riskanalys!D14 -> 6 | E10: =Riskanalys!E14 -> 2 | F10: =Riskanalys!F14 -> 3 | G10: Tillse att det genereras varning i systemet, exempelvis via "OBS-kod". Testas vid verifiering.
A11: =Riskanalys!A15 -> R8 | B11: =Riskanalys!B15 -> Odling | C11: =Riskanalys!C15 -> Risk att fel datum för odling registreras i systemet om donationsregistrering utförs innan pastörisering. | D11: =Riskanalys!D15 -> 3 | E11: =Riskanalys!E15 -> 3 | F11: =Riskanalys!F15 -> 1 | G11: Det finns möjlighet att lägga upp så kallade utesilier i ProSang där odlingsdatum kan registreras. Från och med version 10 kan verksamheterna komplettera med analyser på produkter som framställs efter donation.
A12: =Riskanalys!A16 -> R9 | B12: =Riskanalys!B16 -> Odling | C12: =Riskanalys!C16 -> Resultat av odling kan inte registreras enligt milknets rekommendation (dvs. "godkänd" och "icke godkänd"). Risk för missförstånd om mjölken är tjänlig eller otjänlig då resultat för odlingsanalyserna måste registreras som negativ alternativt positiv. | D12: =Riskanalys!D16 -> 12 | E12: =Riskanalys!E16 -> 4 | F12: =Riskanalys!F16 -> 3 | G12: Leverantören har tillfrågats om möjligheten att utveckla nya svarsbegrepp för analysresultat. Utveckling kan ske men först i version 10. Ett möjligt alternativ är att i verksamhetens interna rutiner beskriva att ett godkänt odlingsresultat ska registreras som "negativt" och att icke godkänt odlingsresultat ska registreras som "positivt". Spårbarhet till det faktiska resultatet av odlingen finns hos mikrobiologen, vilket också bör beskrivas i interna rutiner.
A13: =Riskanalys!A17 -> R10 | B13: =Riskanalys!B17 -> Komponentberedning | C13: =Riskanalys!C17 -> Donationsunderlag med etiketter för mjölkprodukter är ännu inte utvecklade i systemet (även en möjlighet) | D13: =Riskanalys!D17 -> 4 | E13: =Riskanalys!E17 -> 4 | F13: =Riskanalys!F17 -> 1 | G13: Utformning av donationsunderlaget kan beslutas av beställaren. Kostnad för utveckling kommer tillkomma.
A14: =Riskanalys!A18 -> R11 | B14: =Riskanalys!B18 -> Komponentberedning | C14: =Riskanalys!C18 -> Risk att det blir fel hållbarhetsdatum i systemet om komponentkoden inte ändras efter pastörisering. | D14: =Riskanalys!D18 -> 6 | E14: =Riskanalys!E18 -> 2 | F14: =Riskanalys!F18 -> 3 | G14: Se till att interna rutiner beskriver att komponentkoder behöver ändras efter pastörisering.
A15: =Riskanalys!A19 -> R12 | B15: =Riskanalys!B19 -> Komponentberedning | C15: =Riskanalys!C19 -> Antalet unika identiteter som kan skapas vid "split" av en batch är begränsad till 26 st. | D15: =Riskanalys!D19 -> 6 | E15: =Riskanalys!E19 -> 2 | F15: =Riskanalys!F19 -> 3 | G15: Risken accepteras. Sannolikt behövs inte fler etiketter än så. Det går även att göra en "andra split" vid behov.
A16: =Riskanalys!A20 -> R13 | B16: =Riskanalys!B20 -> Frisläppning | C16: =Riskanalys!C20 -> Frisläppning sker trots att inte alla obligatoriska analyser är klara. | D16: =Riskanalys!D20 -> 4 | E16: =Riskanalys!E20 -> 1 | F16: =Riskanalys!F20 -> 4 | G16: Bör inte ske under normala omständigheter. Testas vid verifiering.
A17: =Riskanalys!A21 -> R14 | B17: =Riskanalys!B21 -> Frisläppning | C17: =Riskanalys!C21 -> Mjölk frisläpps trots att mer än 3 månader har förflutit sedan senaste smittest utfördes (ej bunden till besökstyp MILK_DONATION) | D17: =Riskanalys!D21 -> 2 | E17: =Riskanalys!E21 -> 1 | F17: =Riskanalys!F21 -> 2 | G17: Bör inte ske under normala omständigheter. Smittesterna kan "ärvas" från besökstyp MILK_START och giltighetstid ställas in till 3 månader. Testas vid verifiering.
A18: =Riskanalys!A22 -> R15 | B18: =Riskanalys!B22 -> Frisläppning | C18: =Riskanalys!C22 -> Personal från annan verksamhet (t.ex. blod) frisläpper mjölkprodukter. | D18: =Riskanalys!D22 -> 3 | E18: =Riskanalys!E22 -> 1 | F18: =Riskanalys!F22 -> 3 | G18: Risken accepteras. Mycket osannolikt att detta skulle ske även om det skulle vara tekniskt möjligt. Det går dessutom aldrig att frisläppa något som inte är redo för frisläppning.
A19: =Riskanalys!A23 -> R16 | B19: =Riskanalys!B23 -> Användning | C19: =Riskanalys!C23 -> Om en mjölkflaska tinas och används till två patienter utan föregående split i systemet, kan endast en patients personnummer registreras på aktuellt donationsnummer. | D19: =Riskanalys!D23 -> 12 | E19: =Riskanalys!E23 -> 4 | F19: =Riskanalys!F23 -> 3 | G19: Att använda en produkt till två patienter utan föregående split i systemet strider mot ISBT128:s principer, och ska därmed inte vara möjligt. Om användade avdelning inte själva har tillgång till ProSang behöver interna rutiner ses över, så att detta moment utförs i mjölkköket innan mjölken utlämnas för användning. Vi rekommenderar en översyn av rutinerna så att uppdelningen i portionsflaskor sker på enklast möjliga sätt, utan att kravet på en unik identitet för varje delmängd äventyras.
... A27: =Riskanalys!A31 -> R24 | B27: =Riskanalys!B31 -> Förvaltning och förändring | C27: =Riskanalys!C31 -> Om det krävs förändringar i systemet är detta ofta bundet till releaser som endast släpps ett fåtal gånger per år. | D27: =Riskanalys!D31 -> 8 | E27: =Riskanalys!E31 -> 4 | F27: =Riskanalys!F31 -> 2 | G27: Planering och kommunikation med leverantören.
